BEGIN:VCALENDAR
VERSION:2.0
PRODID:-//ChamberMaster//Event Calendar 2.0//EN
METHOD:PUBLISH
X-PUBLISHED-TTL:P3D
REFRESH-INTERVAL:P3D
CALSCALE:GREGORIAN
BEGIN:VEVENT
DTSTART:20130615T010000Z
DTEND:20130615T060000Z
X-MICROSOFT-CDO-ALLDAYEVENT:FALSE
SUMMARY:101st Anniversary 2013 Installation Dinner
DESCRIPTION:101st Anniversary 2013 Installation Dinner\n\n\n\nJoin us for the much anticipated Montebello Chamber of Commerce's 101st Anniversary 2013 Installation Dinner.\n\n\n\n        Honoring \n\n  Outgoing Chairman\n\nRalph E. Hansen\, D.M.D.\n\n            and\n\n  Incoming Chairman\n\n      Albert Napoli\n\n\n\nAnnouncing "BUSINESS OF THE YEAR'\n\nClick to download the Nomination Form\n\n\n\nThe night is filled with stars past present of the Montebello Business Community.  This event is highlighted by a phenomenal dinner\, spectacular entertainment\, and followed by enjoyable music and dancing!\n\n\n\nThe MUST ATTEND event of the year!\n\n\n\nRSVP REQUIRED BY JUNE 7\, 2013
X-ALT-DESC;FMTTYPE=text/html:<span style="color: rgb(0\, 0\, 128)\;"><strong>101st Anniversary 2013 Installation Dinner</strong></span><br />\n<br />\nJoin us for the much anticipated Montebello Chamber of Commerce&#39\;s 101st Anniversary 2013 Installation Dinner.<br />\n<br />\n&nbsp\;&nbsp\;&nbsp\;&nbsp\;&nbsp\;&nbsp\;&nbsp\; <strong>Honoring&nbsp\;</strong><br />\n&nbsp\; <span style="color: rgb(0\, 0\, 128)\;">O<em>utgoing Chairman</em></span><br />\nRalph E. Hansen\, D.M.D.<br />\n&nbsp\;&nbsp\;&nbsp\;&nbsp\;&nbsp\;&nbsp\;&nbsp\;&nbsp\;&nbsp\;&nbsp\;&nbsp\;&nbsp\;and<br />\n&nbsp\; <span style="color: rgb(0\, 0\, 128)\;"><em>Incoming Chairman</em></span><br />\n&nbsp\;&nbsp\;&nbsp\;&nbsp\;&nbsp\;&nbsp\;Albert Napoli<br />\n<br />\n<strong>Announcing &quot\;BUSINESS OF THE YEAR</strong>&#39\;<br />\n<a href="http://cloud.chambermaster.com/userfiles/UserFiles/chambers/1156/File/BOTYnominationform.pdf">Click to download the Nomination Form</a><br />\n<br />\nThe night is filled with stars past present of the Montebello Business Community.&nbsp\; This event is highlighted by a phenomenal dinner\,&nbsp\;spectacular entertainment\, and followed by enjoyable music and dancing!<br />\n<br />\n<span style="color: rgb(75\, 0\, 130)\;">The <strong>MUST ATTEND </strong>event of the year!</span><br />\n<br />\n<strong>RSVP&nbsp\;REQUIRED BY JUNE 7\, 201</strong>3&nbsp\;&nbsp\;&nbsp\;&nbsp\;&nbsp\;&nbsp\;&nbsp\;&nbsp\;&nbsp\;
LOCATION:Quiet Cannon 901 Via San Clemente Montebello\, CA 90640
UID:e.1156.917
SEQUENCE:3
DTSTAMP:20260419T143158Z
URL:https://www.montebellochamber.org/events/details/101st-anniversary-2013-installation-dinner-06-14-2013-917
END:VEVENT

END:VCALENDAR
