BEGIN:VCALENDAR
VERSION:2.0
PRODID:-//ChamberMaster//Event Calendar 2.0//EN
METHOD:PUBLISH
X-PUBLISHED-TTL:P3D
REFRESH-INTERVAL:P3D
CALSCALE:GREGORIAN
BEGIN:VEVENT
DTSTART:20140614T010000Z
DTEND:20140614T060000Z
X-MICROSOFT-CDO-ALLDAYEVENT:FALSE
SUMMARY:102nd Anniversary 2014 Installation and Award Dinner
DESCRIPTION:Join us for the much anticipated Montebello Chamber of Commerce's 102nd Anniversary 2014 Installation and Award Dinner on June 13\, 2014 honoring Incoming Chairman Albert Napoli.\n\n\n\nThis event is to install the Board of Directors\, recognize the Large Business of the Year\, Medium Business of the Year\, Small Business of the Year\, Montebello Chamber Leadership Award\, Ambassador of the Year Award and Quality of Life Award.\n\n\n\nDancing and Casino night to follow\n\n\n\n1920's attire optional\n\n\n\n\n\nThis premier event will be held at the Quiet Cannon 901 Via San Clemente\, Montebello with a scenic view and bright\, cheerful banquet rooms\, an ideal place banquet facility.
X-ALT-DESC;FMTTYPE=text/html:Join us for the much anticipated Montebello Chamber of Commerce&#39\;s 102nd Anniversary 2014 Installation and Award Dinner on June 13\, 2014 honoring Incoming Chairman Albert Napoli.<br />\n<br />\nThis event is to install the Board of Directors\, recognize the Large Business of the Year\, Medium Business of the Year\, Small Business of the Year\, Montebello Chamber Leadership Award\, Ambassador of the Year Award and Quality of Life Award.<br />\n<br />\nDancing and Casino night to follow<br />\n<br />\n1920&#39\;s attire optional<br />\n<br />\n<br />\nThis premier event will be held at the Quiet Cannon 901 Via San Clemente\, Montebello <span class="st">with a scenic view and bright\, cheerful banquet rooms</span>\, an ideal place banquet facility.<br />\n<br />\n&nbsp\;
LOCATION:Quiet Cannon 901 Via San Clemente\, Montebello CA 90640
UID:e.1156.995
SEQUENCE:3
DTSTAMP:20260419T130556Z
URL:https://www.montebellochamber.org/events/details/102nd-anniversary-2014-installation-and-award-dinner-06-13-2014-995
END:VEVENT

END:VCALENDAR
