BEGIN:VCALENDAR
VERSION:2.0
PRODID:-//ChamberMaster//Event Calendar 2.0//EN
METHOD:PUBLISH
X-PUBLISHED-TTL:P3D
REFRESH-INTERVAL:P3D
CALSCALE:GREGORIAN
BEGIN:VEVENT
DTSTART:20150626T010000Z
DTEND:20150626T050000Z
X-MICROSOFT-CDO-ALLDAYEVENT:FALSE
SUMMARY:103rd Installation Dinner & Shining Star Awards
DESCRIPTION:Join us for the much anticipated Montebello Chamber of Commerce's\n\n103rd Installation Dinner & Shining Star Awards
X-ALT-DESC;FMTTYPE=text/html:Join us for the much anticipated Montebello Chamber of Commerce&#39\;s<br />\n<strong>103rd Installation Dinner &amp\; Shining Star Awards</strong>
LOCATION:Quiet Cannon (San Antonio Room) 901 Via San Clemente Montebello\, CA 90640
UID:e.1156.1354
SEQUENCE:3
DTSTAMP:20260419T214558Z
URL:https://www.montebellochamber.org/events/details/103rd-installation-dinner-shining-star-awards-06-25-2015-1354
END:VEVENT

END:VCALENDAR
