BEGIN:VCALENDAR
VERSION:2.0
PRODID:-//ChamberMaster//Event Calendar 2.0//EN
METHOD:PUBLISH
X-PUBLISHED-TTL:P3D
REFRESH-INTERVAL:P3D
CALSCALE:GREGORIAN
BEGIN:VEVENT
DTSTART;VALUE=DATE:20180628
DTEND;VALUE=DATE:20180629
TRANSP:TRANSPARENT
X-MICROSOFT-CDO-ALLDAYEVENT:TRUE
SUMMARY:106th Installation Dinner & Shining Star Awards
DESCRIPTION:The Montebello Chamber of Commerce\n\ncelebrates its anniversary and the installation of its new Board of Directors\n\nwith the 106th Installation Dinner & Shining Star Awards\n\n\n\n2018 Theme: Cirque Nouveau\n\n\n\nAwards will be presented to exceptional individuals\, businesses and community organizations in the following categories:\n\n\n\nEducator of the Year\, Public Service Award\, Citizen of the Year\, Community Organization of the year\, Most Improved Commercial Property\, Member Business of the Year\n\n\n\nMingle with business\, government and community leaders at this elegant event featuring live acrobatic performances\, silent auction\, three-course dinner\, cocktail hour and inspiring Shining Star Awards recognizing exceptional individuals\, businesses and community organizations!
X-ALT-DESC;FMTTYPE=text/html:The Montebello Chamber of Commerce<br>\ncelebrates its anniversary and the installation of its new Board of Directors<br>\nwith the 106th Installation Dinner &amp\; Shining Star Awards<br>\n<br>\n2018 Theme: Cirque Nouveau<br>\n<br>\nAwards will be presented to exceptional individuals\, businesses and community organizations in the following categories:<br>\n<br>\nEducator of the Year\, Public Service Award\, Citizen of the Year\, Community Organization of the year\, Most Improved Commercial Property\, Member Business of the Year<br>\n<br>\nMingle with business\, government and community leaders at this elegant event featuring live acrobatic performances\, silent auction\, three-course dinner\, cocktail hour and inspiring Shining Star Awards recognizing exceptional individuals\, businesses and community organizations!
LOCATION:Quiet Cannon - Crystal Ballroom 901 Via San Clemente Montebello\, CA 90640
UID:e.1156.2497
SEQUENCE:3
DTSTAMP:20260419T173156Z
URL:https://www.montebellochamber.org/events/details/106th-installation-dinner-shining-star-awards-2497
END:VEVENT

END:VCALENDAR
