BEGIN:VCALENDAR
VERSION:2.0
PRODID:-//ChamberMaster//Event Calendar 2.0//EN
METHOD:PUBLISH
X-PUBLISHED-TTL:P3D
REFRESH-INTERVAL:P3D
CALSCALE:GREGORIAN
BEGIN:VEVENT
DTSTART:20190628T000000Z
DTEND:20190628T040000Z
X-MICROSOFT-CDO-ALLDAYEVENT:FALSE
SUMMARY:107th Installation Dinner & Shining Star Awards
DESCRIPTION:The Montebello Chamber of Commerce will celebrate its 107th Anniversary this year with an exotic "Journey to Africa" theme on June 27th at our annual Installation Dinner & Shining Star Awards presentation!\n\n\n\nJoin us for cocktails\, silent auction\, three-course dinner\, live musical & dance performances and inspiring awards presentations to exemplary individuals\, community organizations and businesses in our city!\n\n\n\nSponsorship opportunities include benefits such as personalized signs and favors at the event\, digital and print promotion\, and more!
X-ALT-DESC;FMTTYPE=text/html:<span style="font-size:14px\;"><span style="font-family:arial\;"><strong>The Montebello Chamber of Commerce will celebrate its 107th Anniversary</strong><span style="font-weight: bold\;"><strong> </strong>this year with an exotic &quot\;Journey to Africa&quot\; theme on June 27th at our annual Installation Dinner &amp\; Shining Star Awards presentation!<br />\n<br />\nJoin us for cocktails\, silent auction\, three-course dinner\, live musical &amp\; dance performances and inspiring awards presentations to exemplary individuals\, community organizations and businesses in our city!</span></span><br />\n<br />\n<span style="color:#000000\;"><strong>Sponsorship opportunities include benefits such as personalized signs and favors at the event\, digital and print promotion\, and more!&nbsp\; </strong></span></span>
LOCATION:Quiet Cannon Event & Conference Center 901 Via San Clemente Montebello\, CA 90640
UID:e.1156.3291
SEQUENCE:3
DTSTAMP:20260419T130215Z
URL:https://www.montebellochamber.org/events/details/107th-installation-dinner-shining-star-awards-3291
END:VEVENT

END:VCALENDAR
