BEGIN:VCALENDAR
VERSION:2.0
PRODID:-//ChamberMaster//Event Calendar 2.0//EN
METHOD:PUBLISH
X-PUBLISHED-TTL:P3D
REFRESH-INTERVAL:P3D
CALSCALE:GREGORIAN
BEGIN:VEVENT
DTSTART:20181012T003000Z
DTEND:20181012T030000Z
X-MICROSOFT-CDO-ALLDAYEVENT:FALSE
SUMMARY:13th Annual PINK SHAWL WALK
DESCRIPTION:The walk will start from the steps of Montebello City Hall 1600 W Beverly Blvd. and finish at the Montebello Senior Center located at City Park 115 S Taylor Ave.
X-ALT-DESC;FMTTYPE=text/html:The walk will start from the steps of Montebello City Hall 1600 W Beverly Blvd. and finish at the Montebello Senior Center located at City Park 115 S Taylor Ave.
LOCATION:For your convenience Shuttle Service is available. Park your car at City Park and catch the shuttle no later than 5\;30pm. The shuttle will bring you to City Hall where you will begin the walk.
UID:e.1156.2873
SEQUENCE:3
DTSTAMP:20260419T202150Z
URL:https://www.montebellochamber.org/events/details/13th-annual-pink-shawl-walk-2873
END:VEVENT

END:VCALENDAR
