BEGIN:VCALENDAR
VERSION:2.0
PRODID:-//ChamberMaster//Event Calendar 2.0//EN
METHOD:PUBLISH
X-PUBLISHED-TTL:P3D
REFRESH-INTERVAL:P3D
CALSCALE:GREGORIAN
BEGIN:VEVENT
DTSTART:20180810T160000Z
DTEND:20180810T190000Z
X-MICROSOFT-CDO-ALLDAYEVENT:FALSE
SUMMARY:16th Annual Senior Fair
DESCRIPTION:Congresswoman Linda Sanchez invites you to her 16th annual Senior Fair\n\n\n\nLocal organizations and agencies will provide assistance with:\n\n	Medicare\n	Social Security\n	Veteran's Programs\n	Food Assistance Programs\n	Consumer Protection\n	Free Health Screenings!\n\nComplimentary lunch provoded! While supplies last
X-ALT-DESC;FMTTYPE=text/html:Congresswoman Linda Sanchez invites you to her 16th annual Senior Fair<br />\n<br />\nLocal organizations and agencies will provide assistance with:\n<ul>\n	<li>Medicare</li>\n	<li>Social Security</li>\n	<li>Veteran&#39\;s Programs</li>\n	<li>Food Assistance Programs</li>\n	<li>Consumer Protection</li>\n	<li>Free Health Screenings!</li>\n</ul>\nComplimentary lunch provoded! While supplies last
LOCATION:Cerritos College Gymnasium 11110 Alondra Blvd. Norwalk\, CA 90650
UID:e.1156.2639
SEQUENCE:3
DTSTAMP:20260419T202212Z
URL:https://www.montebellochamber.org/events/details/16th-annual-senior-fair-2639
END:VEVENT

END:VCALENDAR
