BEGIN:VCALENDAR
VERSION:2.0
PRODID:-//ChamberMaster//Event Calendar 2.0//EN
METHOD:PUBLISH
X-PUBLISHED-TTL:P3D
REFRESH-INTERVAL:P3D
CALSCALE:GREGORIAN
BEGIN:VEVENT
DTSTART:20180303T200000Z
DTEND:20180304T000000Z
X-MICROSOFT-CDO-ALLDAYEVENT:FALSE
SUMMARY:1912 Titanic Tea Party Exhibit Opening
DESCRIPTION:Come have tea and Victorian biscuits and cakes. And see our new Titanic Exhibit with stories of the crew\, passengers and the ship. Please do come dressed up in your finest 1912 attire.\n\nEvent is free\, parking free. Rain or shine.
X-ALT-DESC;FMTTYPE=text/html:<span style="color: rgb(75\, 79\, 86)\; font-family: Helvetica\, Arial\, sans-serif\; font-size: 14px\;">Come have tea and Victorian biscuits and cakes. And see our new Titanic Exhibit with stories of the crew\, passengers and the ship. Please do come dressed up in your finest 1912 attire.</span><br style="color: rgb(75\, 79\, 86)\; font-family: Helvetica\, Arial\, sans-serif\; font-size: 14px\;" />\n<span style="color: rgb(75\, 79\, 86)\; font-family: Helvetica\, Arial\, sans-serif\; font-size: 14px\;">Event is free\, parking free. Rain or shine.</span>
LOCATION:Juan Matias Sanchez Adobe 946 Adobe Ave. Montebello\, CA 90640
UID:e.1156.2491
SEQUENCE:3
DTSTAMP:20260419T130434Z
URL:https://www.montebellochamber.org/events/details/1912-titanic-tea-party-exhibit-opening-2491
END:VEVENT

END:VCALENDAR
