BEGIN:VCALENDAR
VERSION:2.0
PRODID:-//ChamberMaster//Event Calendar 2.0//EN
METHOD:PUBLISH
X-PUBLISHED-TTL:P3D
REFRESH-INTERVAL:P3D
CALSCALE:GREGORIAN
BEGIN:VEVENT
DTSTART:20170616T150000Z
DTEND:20170616T233000Z
X-MICROSOFT-CDO-ALLDAYEVENT:FALSE
SUMMARY:19th Annual Golf Tournament & Hall of Fame Banquet
DESCRIPTION:Montebello High Alumni Association\n\n19th Annual Golf Tournament\n\nand Hall of Fame Banquet\n\n(Honoring Stew Pike and Tak Kobayashi Memorial Scolarships)
X-ALT-DESC;FMTTYPE=text/html:Montebello High Alumni Association<br />\n19th Annual Golf Tournament<br />\nand Hall of Fame Banquet<br />\n(Honoring Stew Pike and Tak Kobayashi Memorial Scolarships)<br />\n&nbsp\;
LOCATION:Montebello Country Club 901 Via San Clemente Montebello\, CA 90640
UID:e.1156.1549
SEQUENCE:3
DTSTAMP:20260419T144007Z
URL:https://www.montebellochamber.org/events/details/19th-annual-golf-tournament-hall-of-fame-banquet-1549
END:VEVENT

END:VCALENDAR
