BEGIN:VCALENDAR
VERSION:2.0
PRODID:-//ChamberMaster//Event Calendar 2.0//EN
METHOD:PUBLISH
X-PUBLISHED-TTL:P3D
REFRESH-INTERVAL:P3D
CALSCALE:GREGORIAN
BEGIN:VEVENT
DTSTART;VALUE=DATE:20130615
DTEND;VALUE=DATE:20130616
TRANSP:TRANSPARENT
X-MICROSOFT-CDO-ALLDAYEVENT:TRUE
SUMMARY:1st Annual Awareness Walk/Bikeride for PTSD & TBI
DESCRIPTION:The Hook up resource center & Disabled American Veterans invite you to attend our first annual awareness walk. We are hosting this event to raise money for our educational program for children of veterans and our community. Many people are unaware on how to assist a loved one with PTSD or TBI. \n\n	\n\n	You may register to walk or bike ride\, if you chose to walk you may walk through the sant  fe dams nature center take your to take the children. \n\n	Lots of food\, vendors\, music and speakers\n\n	\n\n	We will have the Montebello Mayor Christina Cortez speaking on PTSD and our community and what we can do to support our veteran.\n\n	Gloria Molina will also be attending. \n\n	\n\n	Our event is sponsored by Longo Toyota & Laidlaw Harleys\n\n	we invite you to all attend and support our veterans.
X-ALT-DESC;FMTTYPE=text/html:<p class="MsoNormal">\n	The Hook up resource center &amp\; Disabled American Veterans invite you to attend our first annual awareness walk. We are hosting this event to raise money for our educational program for children of veterans and our community. Many people are unaware on how to assist a loved one with PTSD or TBI.&nbsp\;<br />\n	<br />\n	You may register to walk or bike ride\, if you chose to walk you may walk through the sant&eacute\; fe dams nature center take your to take the children.&nbsp\;<br />\n	Lots of food\, vendors\, music and speakers<br />\n	<br />\n	We will have the Montebello Mayor Christina Cortez speaking on PTSD and our community and what we can do to support our veteran.<br />\n	Gloria Molina will also be attending.&nbsp\;<br />\n	<br />\n	Our event is sponsored by Longo Toyota &amp\; Laidlaw Harleys<br />\n	we invite you to all attend and support our veterans.<o:p></o:p></p>\n
LOCATION:Sante Fe Dam in Irwindale CA
UID:e.1156.918
SEQUENCE:3
DTSTAMP:20260419T130629Z
URL:https://www.montebellochamber.org/events/details/1st-annual-awareness-walk-bikeride-for-ptsd-tbi-06-15-2013-918
END:VEVENT

END:VCALENDAR
