BEGIN:VCALENDAR
VERSION:2.0
PRODID:-//ChamberMaster//Event Calendar 2.0//EN
METHOD:PUBLISH
X-PUBLISHED-TTL:P3D
REFRESH-INTERVAL:P3D
CALSCALE:GREGORIAN
BEGIN:VEVENT
DTSTART:20120405T180000Z
DTEND:20120405T230000Z
X-MICROSOFT-CDO-ALLDAYEVENT:FALSE
SUMMARY:2012 Business Expo
DESCRIPTION:The Montebello Chamber is proud to be able to promote the business community through our 22nd  Annual Business Expo.  It has become the largest of its kind in the area and it is attended by over 1\,200 businesses and residents in Montebello and surrounding areas\, offering the opportunity of many new prospects for businesses and consumers.\n\n \n\nThe Expo features over 70 exhibitors including health care facilities\, printers\, hotels\, caterers\, transportation\, and banks\, to name a few. There will also be hourly door prize give-a-ways that has been such a hit the past few years.\n\n \n\nCorporate sponsors this year are Beverly Hospital\, The Prescription Shop\, Funeraria Del Angel\, Cook Hill Properties\, Interstate Tire Distributor\, Camino Federal Credit union\, The Shops at Montebello\,Orbit Party Rentals\, and X-Igent Printing. \n\n \n\nBe a part of this "HIGH POWER" Business Event! Call the Montebello Chamber TODAY at 323-721-1153 to receive your application and make reservations! Hurry\, booths sell out fast!\n\n\n\nFACTS:\n\nOPEN TO THE PUBLIC!\n\nTHOUSANDS ATTEND!\n\nMEET POTENTIAL CLIENTS!\n\nOVER 70 EXHIBITORS!
X-ALT-DESC;FMTTYPE=text/html:<span style="font-family: arial"><span style="font-size: 14px">The Montebello Chamber is proud to be able to promote the business community through our 22nd&nbsp\; Annual Business Expo.&nbsp\;&nbsp\;It has become the largest of its kind in the area and it is attended by over 1\,200 businesses and residents in Montebello and surrounding areas\, offering the opportunity of many new prospects for businesses and consumers.<br />\n&nbsp\;<br />\nThe Expo features over 70 exhibitors including health care facilities\, printers\, hotels\, caterers\, transportation\, and banks\, to name a few. There will also be hourly door prize give-a-ways that has been such a hit the past few years.<br />\n&nbsp\;<br />\nCorporate sponsors this year are Beverly Hospital\, The Prescription Shop\, Funeraria Del Angel\, Cook Hill Properties\, Interstate Tire Distributor\, Camino Federal Credit union\, The Shops at Montebello\,Orbit Party Rentals\,&nbsp\;and X-Igent&nbsp\;Printing.&nbsp\;<br />\n&nbsp\;<br />\n<span style="background-color: #ffff00">Be a part of this &quot\;HIGH POWER&quot\; Business Event! Call the Montebello Chamber TODAY at 323-721-1153 to receive your application and make reservations! Hurry\, booths sell out fast!</span><br />\n<br />\n<strong><span style="background-color: #ffff00">FACTS:</span></strong><br />\nOPEN TO THE PUBLIC!<br />\nTHOUSANDS ATTEND!<br />\nMEET POTENTIAL CLIENTS!<br />\nOVER 70 EXHIBITORS!&nbsp\;</span></span>
LOCATION:Quiet Cannon 901 Via San Clemente Montebello\, CA 90640
UID:e.1156.417
SEQUENCE:3
DTSTAMP:20260420T083721Z
URL:https://www.montebellochamber.org/events/details/2012-business-expo-417
END:VEVENT

END:VCALENDAR
