BEGIN:VCALENDAR
VERSION:2.0
PRODID:-//ChamberMaster//Event Calendar 2.0//EN
METHOD:PUBLISH
X-PUBLISHED-TTL:P3D
REFRESH-INTERVAL:P3D
CALSCALE:GREGORIAN
BEGIN:VEVENT
DTSTART:20120524T183000Z
DTEND:20120524T203000Z
X-MICROSOFT-CDO-ALLDAYEVENT:FALSE
SUMMARY:2012 Economic Forecast
DESCRIPTION:The Montebello Chamber of Commerce invites the business community to join us on Thursday\, May 24\, for a luncheon featuring well known economist Robert Kleinhenz. Dr. Kleinhenz is chief economist for the Los Angeles County Economic Development Corporation. Our guest speaker will address current economic issues and provide an expert's perspective on where our economy is heading. Dr. Kleinhenz has spoken to local\, state\, and national audiences. He is a frequent contributor to media coverage on the economy\, including coverage in news outlets throughout California\, along with the Wall Street Journal\, CNBC\, Bloomberg News\, and NPR. Dr. Kleinhenz has a bachelor's degree from the University of Michigan\, a master's degree and a doctorate from the University of Southern California\, all in economics. Prior to joining the LAEDC\, he served as deputy chief economist at the California Association of Realtors and taught economics for over 15 years\, most recently at California State University\, Fullerton.\n\n		\n\n		The event will be hosted by the chamber's Governmental Affairs Committee and sponsored by the Southern California Edison Company\, Metropolitan Water District\, and The Gas Company/A Sempra Energy Utility. We encourage all businesses to attend to hear the most up-to-date information about our local and state economy.
X-ALT-DESC;FMTTYPE=text/html:<div style="color: gray">\n	<p align="left">\n		<span style="font-family: tahoma"><span style="font-size: 12px"><span style="color: #000000">The Montebello Chamber of Commerce invites the business community to join us on Thursday\, May 24\, for a luncheon featuring well known economist Robert Kleinhenz. Dr. Kleinhenz is chief economist for the Los Angeles County Economic Development Corporation. Our guest speaker will address current economic issues and provide an expert&rsquo\;s perspective on where our economy is heading. Dr. Kleinhenz has spoken to local\, state\, and national audiences. He is a frequent contributor to media coverage on the economy\, including coverage in news outlets throughout California\, along with the Wall Street Journal\, CNBC\, Bloomberg News\, and NPR. Dr. Kleinhenz has a bachelor&rsquo\;s degree from the University of Michigan\, a master&rsquo\;s degree and a doctorate from the University of Southern California\, all in economics. Prior to joining the LAEDC\, he served as deputy chief economist at the California Association of Realtors and taught economics for over 15 years\, most recently at California State University\, Fullerton.<br />\n		<br />\n		The event will be hosted by the chamber&rsquo\;s Governmental Affairs Committee and sponsored by the Southern California Edison Company\, Metropolitan Water District\, and The Gas Company/A Sempra Energy Utility. We encourage all businesses to attend to hear the most up-to-date information about our local and state economy.</span></span></span></p>\n</div>\n
LOCATION:Quiet Cannon\, Cannoneer Room 901 Via San Clemente Montebello\, CA 90640
UID:e.1156.634
SEQUENCE:3
DTSTAMP:20260420T065245Z
URL:https://www.montebellochamber.org/events/details/2012-economic-forecast-05-24-2012-634
END:VEVENT

END:VCALENDAR
