BEGIN:VCALENDAR
VERSION:2.0
PRODID:-//ChamberMaster//Event Calendar 2.0//EN
METHOD:PUBLISH
X-PUBLISHED-TTL:P3D
REFRESH-INTERVAL:P3D
CALSCALE:GREGORIAN
BEGIN:VEVENT
DTSTART:20150611T140000Z
DTEND:20150612T021500Z
X-MICROSOFT-CDO-ALLDAYEVENT:FALSE
SUMMARY:2015 - 06/11/15 Beverly Hospital Blood Drive
DESCRIPTION:Beverly Hospital Summer Blood Drive\n\nCall the Community Relations Dept. at 323-837-3411 for your appointment or information.  Or log onto www.redcrossblood.org and enter sponsor code: Beverlyhospital
X-ALT-DESC;FMTTYPE=text/html:<div style="color: gray\;"><span style="color: rgb(0\, 0\, 0)\;">Beverly Hospital Summer Blood Drive<br />\nCall the Community Relations Dept. at 323-837-3411 for your appointment or information.&nbsp\; Or log onto <a href="http://www.redcrossblood.org">www.redcrossblood.org</a> and enter sponsor code: Beverlyhospital</span></div>\n
LOCATION:309 W. Beverly Blvd.\, Montebello\, CA 90640 Held in the Basement Level Conference Room
UID:e.1156.1403
SEQUENCE:3
DTSTAMP:20260419T231407Z
URL:https://www.montebellochamber.org/events/details/2015-06-11-15-beverly-hospital-blood-drive-1403
END:VEVENT

END:VCALENDAR
