BEGIN:VCALENDAR
VERSION:2.0
PRODID:-//ChamberMaster//Event Calendar 2.0//EN
METHOD:PUBLISH
X-PUBLISHED-TTL:P3D
REFRESH-INTERVAL:P3D
CALSCALE:GREGORIAN
BEGIN:VEVENT
DTSTART:20150710T013000Z
DTEND:20150821T033000Z
X-MICROSOFT-CDO-ALLDAYEVENT:FALSE
SUMMARY:2015 - 07/9/16 Montebello Concerts In the Park
DESCRIPTION:Summer Concerts In the Park Series. Seven Evenings of FREE live music and dancing!
X-ALT-DESC;FMTTYPE=text/html:Summer Concerts In the Park Series. Seven Evenings of FREE live music and dancing!
LOCATION:Montebello City Park Bandshell
UID:e.1156.1415
SEQUENCE:3
DTSTAMP:20260420T004747Z
URL:https://www.montebellochamber.org/events/details/2015-07-9-16-montebello-concerts-in-the-park-1415
END:VEVENT

END:VCALENDAR
