BEGIN:VCALENDAR
VERSION:2.0
PRODID:-//ChamberMaster//Event Calendar 2.0//EN
METHOD:PUBLISH
X-PUBLISHED-TTL:P3D
REFRESH-INTERVAL:P3D
CALSCALE:GREGORIAN
BEGIN:VEVENT
DTSTART:20150813T180000Z
DTEND:20150814T000000Z
X-MICROSOFT-CDO-ALLDAYEVENT:FALSE
SUMMARY:2015 - 08/13/15 Business Expo
DESCRIPTION:Montebello Chamber of Commerce\n\nBusiness Expo 2015\n\n'Plant a Seed Watch Your Business Grow"\n\n\n\nPlease Note: ATTENDEES are NOT ALLOWED to bring in any marketing materials of any kind into the Expo.  You will be asked to remove it or it will be confiscated.
X-ALT-DESC;FMTTYPE=text/html:<strong>Montebello Chamber of Commerce</strong><br />\n<span style="color: rgb(0\, 0\, 0)\;"><strong>Business Expo 2015</strong></span><br />\n<strong><span style="color: rgb(0\, 128\, 0)\;">&#39\;Plant a Seed Watch Your Business Grow&quot\;</span><br />\n<br />\n<span style="color: rgb(0\, 0\, 0)\;">Please Note: ATTENDEES are NOT ALLOWED to bring in any marketing materials of any kind into the Expo.&nbsp\; You will be asked to remove it or it will be confiscated.</span></strong><br />\n&nbsp\;
LOCATION:Quiet Cannon Main Ballroom 901 Via San Clemente Montebello\, CA 90640
UID:e.1156.1393
SEQUENCE:3
DTSTAMP:20260420T004620Z
URL:https://www.montebellochamber.org/events/details/2015-08-13-15-business-expo-1393
END:VEVENT

END:VCALENDAR
