BEGIN:VCALENDAR
VERSION:2.0
PRODID:-//ChamberMaster//Event Calendar 2.0//EN
METHOD:PUBLISH
X-PUBLISHED-TTL:P3D
REFRESH-INTERVAL:P3D
CALSCALE:GREGORIAN
BEGIN:VEVENT
DTSTART:20151113T010000Z
DTEND:20151113T030000Z
X-MICROSOFT-CDO-ALLDAYEVENT:FALSE
SUMMARY:2015 - 11/12/15Andrea Wagg Memorial Bench Dedication
DESCRIPTION:Andrea Wagg Memorial Bench Dedication\n\nThe Montebello-Commerce YMCA and the Montebello Chamber of Commerce cordially invites you to attend the Andrea Wagg Memorial Bench Dedication and Mixer.
X-ALT-DESC;FMTTYPE=text/html:Andrea Wagg Memorial Bench Dedication<br />\nThe Montebello-Commerce YMCA and the Montebello Chamber of Commerce cordially invites you to attend the Andrea Wagg Memorial Bench Dedication and Mixer.
LOCATION:Montebello-Commerce YMCA 2000 W. Beverly Blvd. Montebello\, CA 90640 323-887-9622
UID:e.1156.1429
SEQUENCE:3
DTSTAMP:20260419T153403Z
URL:https://www.montebellochamber.org/events/details/2015-11-12-15andrea-wagg-memorial-bench-dedication-1429
END:VEVENT

END:VCALENDAR
