BEGIN:VCALENDAR
VERSION:2.0
PRODID:-//ChamberMaster//Event Calendar 2.0//EN
METHOD:PUBLISH
X-PUBLISHED-TTL:P3D
REFRESH-INTERVAL:P3D
CALSCALE:GREGORIAN
BEGIN:VEVENT
DTSTART:20160123T170000Z
DTEND:20160124T000000Z
X-MICROSOFT-CDO-ALLDAYEVENT:FALSE
SUMMARY:2016 - 01/23/17 E-Waste Collection Event
DESCRIPTION:Free Electronic Waste Recycling Event
X-ALT-DESC;FMTTYPE=text/html:<strong>Free Electronic Waste Recycling Event</strong><br />\n&nbsp\;
LOCATION:Montebello City Hall (Parking Lot) 1600 W. Beverly Blvd. Montebello\, CA 90640
UID:e.1156.1449
SEQUENCE:3
DTSTAMP:20260419T184400Z
URL:https://www.montebellochamber.org/events/details/2016-01-23-17-e-waste-collection-event-1449
END:VEVENT

END:VCALENDAR
