BEGIN:VCALENDAR
VERSION:2.0
PRODID:-//ChamberMaster//Event Calendar 2.0//EN
METHOD:PUBLISH
X-PUBLISHED-TTL:P3D
REFRESH-INTERVAL:P3D
CALSCALE:GREGORIAN
BEGIN:VEVENT
DTSTART:20160124T170000Z
DTEND:20160125T000000Z
X-MICROSOFT-CDO-ALLDAYEVENT:FALSE
SUMMARY:2016 - 01/24/16 E-Waste Recycling Event
DESCRIPTION:Free Electronic Waste Recycling Event
X-ALT-DESC;FMTTYPE=text/html:Free Electronic Waste Recycling Event
LOCATION:Montebello City Hall (Parking Lot) 1600 W. Beverly Blvd. Montebello\, CA 90640
UID:e.1156.1450
SEQUENCE:3
DTSTAMP:20260419T183201Z
URL:https://www.montebellochamber.org/events/details/2016-01-24-16-e-waste-recycling-event-1450
END:VEVENT

END:VCALENDAR
