BEGIN:VCALENDAR
VERSION:2.0
PRODID:-//ChamberMaster//Event Calendar 2.0//EN
METHOD:PUBLISH
X-PUBLISHED-TTL:P3D
REFRESH-INTERVAL:P3D
CALSCALE:GREGORIAN
BEGIN:VEVENT
DTSTART:20160226T190000Z
DTEND:20160226T210000Z
X-MICROSOFT-CDO-ALLDAYEVENT:FALSE
SUMMARY:2016 - 02/26/16 Ribbon Cutting - Beverly Hospital Gift Shop
DESCRIPTION:Ribbon Cutting - Grand Re-Opening of Beverly Hospital's Gift Shop
X-ALT-DESC;FMTTYPE=text/html:Ribbon Cutting - Grand Re-Opening of Beverly Hospital&#39\;s Gift Shop&nbsp\;&nbsp\;&nbsp\;&nbsp\;&nbsp\;&nbsp\;&nbsp\;
LOCATION:Beverly Hospital Gift Shop 309 W. Beverly Blvd. - Main Lobby Montebello\, CA 90640
UID:e.1156.1453
SEQUENCE:3
DTSTAMP:20260419T214748Z
URL:https://www.montebellochamber.org/events/details/2016-02-26-16-ribbon-cutting-beverly-hospital-gift-shop-1453
END:VEVENT

END:VCALENDAR
