BEGIN:VCALENDAR
VERSION:2.0
PRODID:-//ChamberMaster//Event Calendar 2.0//EN
METHOD:PUBLISH
X-PUBLISHED-TTL:P3D
REFRESH-INTERVAL:P3D
CALSCALE:GREGORIAN
BEGIN:VEVENT
DTSTART:20160611T153000Z
DTEND:20160611T193000Z
X-MICROSOFT-CDO-ALLDAYEVENT:FALSE
SUMMARY:2016 - 06/11/16 Community Beautification Day
DESCRIPTION:Join your neighbors and friends for the next Community Beautification Day and help brighten a Montebello Park from the ground up. Check-in will begin at 8:00 a.m. with work starting at 8:30 a.m. Submit a waiver by contacting the Recreation and Community Services Department.
X-ALT-DESC;FMTTYPE=text/html:Join your neighbors and friends for the next Community Beautification Day and help brighten a Montebello Park from the ground up.&nbsp\;Check-in will begin at 8:00 a.m. with work starting at 8:30 a.m. Submit a waiver by contacting the Recreation and Community Services Department.<br />\n<br />\n&nbsp\;
LOCATION:Montebello City Park 1301 W. Whittier Blvd. Montebello\, CA 90640
UID:e.1156.1481
SEQUENCE:3
DTSTAMP:20260419T185216Z
URL:https://www.montebellochamber.org/events/details/2016-06-11-16-community-beautification-day-1481
END:VEVENT

END:VCALENDAR
