BEGIN:VCALENDAR
VERSION:2.0
PRODID:-//ChamberMaster//Event Calendar 2.0//EN
METHOD:PUBLISH
X-PUBLISHED-TTL:P3D
REFRESH-INTERVAL:P3D
CALSCALE:GREGORIAN
BEGIN:VEVENT
DTSTART:20160909T190000Z
DTEND:20160909T210000Z
X-MICROSOFT-CDO-ALLDAYEVENT:FALSE
SUMMARY:2016 - 09/9/16 Cash Mob - Salvatore Italian Restaurant
DESCRIPTION:Join the Montebello Chamber First Friday Ca$h Mob!\n\nWhat is a cash mob?  Cash Mobs bring a group of people to merchant on a specific\, planned day for lunch with a quick infusion of "cash".\n\n\n\nRSVP is a must!  LIMIT 50! \n\nCall the chamber to reserve your seat by Wed. Sept. 7th 2016
X-ALT-DESC;FMTTYPE=text/html:Join the Montebello&nbsp\;Chamber First Friday Ca$h Mob!<br />\nWhat is a cash mob? &nbsp\;Cash Mobs bring a group of people to merchant on a specific\, planned day for lunch with a quick infusion of &quot\;cash&quot\;.<br />\n<br />\nRSVP is a must! &nbsp\;LIMIT 50!&nbsp\;<br />\nCall the chamber to reserve your seat by Wed. Sept. 7th 2016
LOCATION:Salvatore Italian Restaurant 125 N. 6th Street\, Montebello CA Menu: 3 Types of Pizza\, Penne Meat Sauce\, Fried Zucchini & Mozzarella\, Salad & Bread\, Soft Drinks\, Coffee\, or Tea.
UID:e.1156.1501
SEQUENCE:3
DTSTAMP:20260419T160619Z
URL:https://www.montebellochamber.org/events/details/2016-09-9-16-cash-mob-salvatore-italian-restaurant-1501
END:VEVENT

END:VCALENDAR
