BEGIN:VCALENDAR
VERSION:2.0
PRODID:-//ChamberMaster//Event Calendar 2.0//EN
METHOD:PUBLISH
X-PUBLISHED-TTL:P3D
REFRESH-INTERVAL:P3D
CALSCALE:GREGORIAN
BEGIN:VEVENT
DTSTART:20161019T160000Z
DTEND:20161019T180000Z
X-MICROSOFT-CDO-ALLDAYEVENT:FALSE
SUMMARY:2016 - 10/19/16 Assemblymember Cristina Garcia ADA Workshop
DESCRIPTION:Assemblymember Cristina Garcia cordially invites you to a\n\nADA Workshop in partnership with California Civil Justice Foundation.\n\nLearn more about making your business ADA compliant.
X-ALT-DESC;FMTTYPE=text/html:Assemblymember Cristina Garcia cordially invites you to a<br />\nADA Workshop in partnership with California Civil Justice Foundation.<br />\nLearn more about making your business ADA compliant.
LOCATION:Simms Park Rooms 3 & 4 16614 Clark Ave. Bellflower\, CA 90706
UID:e.1156.1504
SEQUENCE:3
DTSTAMP:20260419T143332Z
URL:https://www.montebellochamber.org/events/details/2016-10-19-16-assemblymember-cristina-garcia-ada-workshop-1504
END:VEVENT

END:VCALENDAR
