BEGIN:VCALENDAR
VERSION:2.0
PRODID:-//ChamberMaster//Event Calendar 2.0//EN
METHOD:PUBLISH
X-PUBLISHED-TTL:P3D
REFRESH-INTERVAL:P3D
CALSCALE:GREGORIAN
BEGIN:VEVENT
DTSTART:20161105T010000Z
DTEND:20161105T040000Z
X-MICROSOFT-CDO-ALLDAYEVENT:FALSE
SUMMARY:2016 - 11/4/16 8th Annual Taste of the Town
DESCRIPTION:Please join us for our 8th Annual Taste of the Town!\n\nFood! Wine & Beverage Tasting! Music!\n\nIntroducing our People's Choice "Best Taste Award"\n\nMust Be 21 & Over
X-ALT-DESC;FMTTYPE=text/html:<strong><span style="color:#8B4513\;">Please join us for our 8th Annual Taste of the Town!</span></strong><br />\n<strong>Food! Wine &amp\; Beverage Tasting! Music!</strong><br />\nIntroducing our People&#39\;s Choice &quot\;Best Taste Award&quot\;<br />\n<span style="color:#FF0000\;">Must Be 21 &amp\; Over</span>&nbsp\; &nbsp\;&nbsp\;<br />\n&nbsp\;
LOCATION:Bagramian Hall 900 W. Lincoln Ave. Montebello\, CA 90640 (corner of Lincoln Ave. and Montebello Blvd.)
UID:e.1156.1499
SEQUENCE:3
DTSTAMP:20260419T130803Z
URL:https://www.montebellochamber.org/events/details/2016-11-4-16-8th-annual-taste-of-the-town-1499
END:VEVENT

END:VCALENDAR
