BEGIN:VCALENDAR
VERSION:2.0
PRODID:-//ChamberMaster//Event Calendar 2.0//EN
METHOD:PUBLISH
X-PUBLISHED-TTL:P3D
REFRESH-INTERVAL:P3D
CALSCALE:GREGORIAN
BEGIN:VEVENT
DTSTART:20170127T013000Z
DTEND:20170127T033000Z
X-MICROSOFT-CDO-ALLDAYEVENT:FALSE
SUMMARY:2017 - 01/26/17Business Mixer - Hair Philosophy
DESCRIPTION:Business Mixer at Hair Philosophy!\n\nJoin us for the first Mixer of the New Year!  Unwind with us after hours (tapas and beverages provided)  Build your network and networth with business minded leaders like you.
X-ALT-DESC;FMTTYPE=text/html:<strong><span style="color:#8B4513\;">Business Mixer at Hair Philosophy!</span></strong><br />\nJoin us for the first Mixer of the New Year! &nbsp\;Unwind with us after hours (<em>tapas and beverages provided) &nbsp\;</em>Build your network and networth&nbsp\;with business minded leaders like you.
LOCATION:Hair Philosophy 501 W. Whittier Blvd. Montebello\, CA 90640 (323) 726-9511 (Parking behind building or on street)
UID:e.1156.1524
SEQUENCE:3
DTSTAMP:20260419T143735Z
URL:https://www.montebellochamber.org/events/details/2017-01-26-17business-mixer-hair-philosophy-1524
END:VEVENT

END:VCALENDAR
