BEGIN:VCALENDAR
VERSION:2.0
PRODID:-//ChamberMaster//Event Calendar 2.0//EN
METHOD:PUBLISH
X-PUBLISHED-TTL:P3D
REFRESH-INTERVAL:P3D
CALSCALE:GREGORIAN
BEGIN:VEVENT
DTSTART:20170224T013000Z
DTEND:20170224T033000Z
X-MICROSOFT-CDO-ALLDAYEVENT:FALSE
SUMMARY:2017 - 02/23/17 Chamber Mixer & Ribbon Cutting - Beverly Urgent Care
DESCRIPTION:Beverly Urgent and Industrial Medicine\n\nChamber Mixer & Ribbon Cutting Ceremony\n\n\n\nGuest of Honor: Sgt. Julio Calleros\n\nDrinks & Appetizers will be served
X-ALT-DESC;FMTTYPE=text/html:<strong>Beverly Urgent and Industrial Medicine</strong><br />\n<strong><span style="color:#cc0000\;">Chamber Mixer &amp\; Ribbon Cutting Ceremony</span></strong><br />\n<br />\n<strong>Guest of Honor:</strong> <strong><span style="color:#cc0000\;">Sgt. Julio Calleros</span></strong><br />\n<span style="color:#336666\;">Drinks &amp\; Appetizers will be served&nbsp\;</span>
LOCATION:Beverly Urgent Care and Industrial Medicine 401 W. Beverly Blvd. Montebello\, CA 90640 (cross street 4th Street)
UID:e.1156.1527
SEQUENCE:3
DTSTAMP:20260419T143810Z
URL:https://www.montebellochamber.org/events/details/2017-02-23-17-chamber-mixer-ribbon-cutting-beverly-urgent-care-1527
END:VEVENT

END:VCALENDAR
