BEGIN:VCALENDAR
VERSION:2.0
PRODID:-//ChamberMaster//Event Calendar 2.0//EN
METHOD:PUBLISH
X-PUBLISHED-TTL:P3D
REFRESH-INTERVAL:P3D
CALSCALE:GREGORIAN
BEGIN:VEVENT
DTSTART:20170203T200000Z
DTEND:20170203T220000Z
X-MICROSOFT-CDO-ALLDAYEVENT:FALSE
SUMMARY:2017 - 02/3/17 Cash Mob Friday - La Costa Restaurant
DESCRIPTION:Cash Mob Friday - La Costa Restaurant \n\nCome and "Mob" La Costa with cash and a great meal!
X-ALT-DESC;FMTTYPE=text/html:Cash Mob Friday - La Costa Restaurant&nbsp\;<br />\nCome and &quot\;Mob&quot\; La Costa with cash and a great meal!&nbsp\; &nbsp\;
LOCATION:La Costa Restaurant 854 N. Garfield Ave. Montebello\, CA 90640 (323) 728-7492
UID:e.1156.1526
SEQUENCE:3
DTSTAMP:20260419T143519Z
URL:https://www.montebellochamber.org/events/details/2017-02-3-17-cash-mob-friday-la-costa-restaurant-1526
END:VEVENT

END:VCALENDAR
