BEGIN:VCALENDAR
VERSION:2.0
PRODID:-//ChamberMaster//Event Calendar 2.0//EN
METHOD:PUBLISH
X-PUBLISHED-TTL:P3D
REFRESH-INTERVAL:P3D
CALSCALE:GREGORIAN
BEGIN:VEVENT
DTSTART;VALUE=DATE:20170502
DTEND;VALUE=DATE:20170503
TRANSP:TRANSPARENT
X-MICROSOFT-CDO-ALLDAYEVENT:TRUE
SUMMARY:2017 - 05/2/17 Score Business Mentoring Sessions
DESCRIPTION:Score Business Mentoring Sessions !\n\n	Free Face to Face Mentoring by men and women who have had successful careers as executives or business owners.\n	Mentors meet with you personally\, confidentially\, and as often as is necessary to define and analyze your challenges and opportunities\; then help you find solutions.\n\n\n\nCall Score today to book your appointment.\n\n(626) 593-1120
X-ALT-DESC;FMTTYPE=text/html:<strong>Score Business Mentoring Sessions</strong><strong>&#8203\;!</strong>\n<ul>\n	<li><strong>Free Face to Face Mentoring by men and women who have had successful careers as executives or business owners.</strong></li>\n	<li><strong>Mentors meet with you personally\, confidentially\, and as often as is necessary to define and analyze your challenges and opportunities\; then help you find solutions.</strong></li>\n</ul>\n<br />\n<strong><strong><span style="color:#B22222\;">Call Score today to book your appointment.</span></strong></strong><br />\n<strong><span style="color:#B22222\;">(626) 593-1120</span></strong>
LOCATION:Chamber Office 109 N. 19th St. Montebello\, CA 90640
UID:e.1156.1546
SEQUENCE:3
DTSTAMP:20260419T160247Z
URL:https://www.montebellochamber.org/events/details/2017-05-2-17-score-business-mentoring-sessions-1546
END:VEVENT

END:VCALENDAR
