BEGIN:VCALENDAR
VERSION:2.0
PRODID:-//ChamberMaster//Event Calendar 2.0//EN
METHOD:PUBLISH
X-PUBLISHED-TTL:P3D
REFRESH-INTERVAL:P3D
CALSCALE:GREGORIAN
BEGIN:VEVENT
DTSTART:20170616T010000Z
DTEND:20170616T060000Z
X-MICROSOFT-CDO-ALLDAYEVENT:FALSE
SUMMARY:2017 - 06/15/17 105th Installation Dinner and Shining Star Awards
DESCRIPTION:105th Annual Installation Dinner    \n\nand \n\nShining Star Community Awards\n\nMonte Carlo Night - DJ - Gaming Tables
X-ALT-DESC;FMTTYPE=text/html:105th Annual Installation Dinner&nbsp\;&nbsp\;&nbsp\;&nbsp\;<br />\nand&nbsp\;<br />\nShining Star Community Awards<br />\nMonte Carlo Night - DJ - Gaming Tables
LOCATION:Quiet Cannon Conference and Event Center 901 Via San Clemente Montebello\, CA 90640
UID:e.1156.1538
SEQUENCE:3
DTSTAMP:20260419T160319Z
URL:https://www.montebellochamber.org/events/details/2017-06-15-17-105th-installation-dinner-and-shining-star-awards-1538
END:VEVENT

END:VCALENDAR
