BEGIN:VCALENDAR
VERSION:2.0
PRODID:-//ChamberMaster//Event Calendar 2.0//EN
METHOD:PUBLISH
X-PUBLISHED-TTL:P3D
REFRESH-INTERVAL:P3D
CALSCALE:GREGORIAN
BEGIN:VEVENT
DTSTART:20170629T230000Z
DTEND:20170630T033000Z
X-MICROSOFT-CDO-ALLDAYEVENT:FALSE
SUMMARY:2017 - 06/29/17 City of Montebello Summer Concert Series
DESCRIPTION:Come out Thursday evenings and enjoy a night of family fun ! Food and craft  vendors beginning at 4:00 pm and music beginning at 6:30 pm.
X-ALT-DESC;FMTTYPE=text/html:Come out Thursday evenings and enjoy a night of family fun ! Food and craft &nbsp\;vendors beginning at 4:00 pm and music beginning at 6:30 pm.
LOCATION:Montebello City Park Bandshell 1301 West Whittier Blvd.
UID:e.1156.1695
SEQUENCE:3
DTSTAMP:20260419T143836Z
URL:https://www.montebellochamber.org/events/details/2017-06-29-17-city-of-montebello-summer-concert-series-1695
END:VEVENT

END:VCALENDAR
