BEGIN:VCALENDAR
VERSION:2.0
PRODID:-//ChamberMaster//Event Calendar 2.0//EN
METHOD:PUBLISH
X-PUBLISHED-TTL:P3D
REFRESH-INTERVAL:P3D
CALSCALE:GREGORIAN
BEGIN:VEVENT
DTSTART:20170728T163000Z
DTEND:20170728T173000Z
X-MICROSOFT-CDO-ALLDAYEVENT:FALSE
SUMMARY:2017 - 07/28/17 Grand Re-Opening - Sephora @ JCPenney
DESCRIPTION:Refreshed.  Remodeled. Re-imagined!\n\n \n\nCome celebrate the Grand Re-Opening of Sephora at JCPenney Montebello\, located at the Shops at Montebello!  The first 100 customers will receive a free gift card in the amount of  $5\, $50 or $100!  Also\, the first 200 customers will get a free make-up bag with some free samples! Treats and drinks will be provided.
X-ALT-DESC;FMTTYPE=text/html:<div style="text-align: center\;"><strong><span style="font-size:14px\;"><span style="font-family:arial\;">Refreshed. &nbsp\;Remodeled. Re-imagined!</span></span></strong></div>\n\n<p>&nbsp\;</p>\n\n<p style="text-align: justify\;"><span style="font-size:14px\;"><span style="font-family:arial\;">Come celebrate the Grand Re-Opening of Sephora&nbsp\;at JCPenney&nbsp\;Montebello\, located at the Shops at Montebello! &nbsp\;<span style="color:black\;">The first 100 customers will receive a free gift card in the amount of&nbsp\;&nbsp\;$5\, $50&nbsp\;or $100! &nbsp\;Also\, the first 200 customers will get a free make-up bag with some free samples! Treats and drinks will be provided.&nbsp\;</span></span></span></p>\n
LOCATION:Sephora inside JCPenney The Shops at Montebello 1600 Town Center Drive Montebello\, CA 90640
UID:e.1156.1873
SEQUENCE:3
DTSTAMP:20260419T143709Z
URL:https://www.montebellochamber.org/events/details/2017-07-28-17-grand-re-opening-sephora-jcpenney-1873
END:VEVENT

END:VCALENDAR
