BEGIN:VCALENDAR
VERSION:2.0
PRODID:-//ChamberMaster//Event Calendar 2.0//EN
METHOD:PUBLISH
X-PUBLISHED-TTL:P3D
REFRESH-INTERVAL:P3D
CALSCALE:GREGORIAN
BEGIN:VEVENT
DTSTART;VALUE=DATE:20170705
DTEND;VALUE=DATE:20170730
TRANSP:TRANSPARENT
X-MICROSOFT-CDO-ALLDAYEVENT:TRUE
SUMMARY:2017 - 07/5/17 Summer Jewelry Blowout
DESCRIPTION:We're overstocked and have no choice but to part with inventory at rock-bottom prices!  Our loss is your gain!  Spin our prize wheel for a chance to win jewelry and gifts with purchase!
X-ALT-DESC;FMTTYPE=text/html:<p class="font_8 color_21" style="margin: 0px\; padding: 0px\; border: 0px\; outline: 0px\; vertical-align: baseline\; background: transparent\; font-stretch: normal\; font-size: 14px\; line-height: normal\; font-family: Spinnaker\, sans-serif\; color: rgb(42\, 42\, 42)\;">We&#39\;re overstocked and have no choice but to part with inventory at rock-bottom prices!&nbsp\; Our loss is your gain!&nbsp\; Spin our prize wheel for a chance to win jewelry and gifts with purchase!</p>\n\n<p class="font_8 color_21" style="margin: 0px\; padding: 0px\; border: 0px\; outline: 0px\; vertical-align: baseline\; background: transparent\; font-stretch: normal\; font-size: 14px\; line-height: normal\; font-family: Spinnaker\, sans-serif\; color: rgb(42\, 42\, 42)\;">&nbsp\;</p>\n\n<p class="font_8 color_21" style="margin: 0px\; padding: 0px\; border: 0px\; outline: 0px\; vertical-align: baseline\; background: transparent\; font-stretch: normal\; font-size: 14px\; line-height: normal\; font-family: Spinnaker\, sans-serif\; color: rgb(42\, 42\, 42)\; text-align: center\;">&nbsp\;</p>\n\n<p class="font_8 color_21" style="margin: 0px\; padding: 0px\; border: 0px\; outline: 0px\; vertical-align: baseline\; background: transparent\; font-stretch: normal\; font-size: 14px\; line-height: normal\; font-family: Spinnaker\, sans-serif\; color: rgb(42\, 42\, 42)\; text-align: center\;">&nbsp\;</p>\n\n<p class="font_8 color_21" style="margin: 0px\; padding: 0px\; border: 0px\; outline: 0px\; vertical-align: baseline\; background: transparent\; font-stretch: normal\; font-size: 14px\; line-height: normal\; font-family: Spinnaker\, sans-serif\; color: rgb(42\, 42\, 42)\; text-align: center\;">&nbsp\;</p>\n\n<p class="font_8 color_21" style="margin: 0px\; padding: 0px\; border: 0px\; outline: 0px\; vertical-align: baseline\; background: transparent\; font-stretch: normal\; font-size: 14px\; line-height: normal\; font-family: Spinnaker\, sans-serif\; color: rgb(42\, 42\, 42)\; text-align: center\;">&nbsp\;</p>\n
LOCATION:Goldex Fine Jewelry 2445 W. Whittier Blvd.\, #201 Montebello\, CA 90640
UID:e.1156.1870
SEQUENCE:3
DTSTAMP:20260419T130608Z
URL:https://www.montebellochamber.org/events/details/2017-07-5-17-summer-jewelry-blowout-1870
END:VEVENT

END:VCALENDAR
