BEGIN:VCALENDAR
VERSION:2.0
PRODID:-//ChamberMaster//Event Calendar 2.0//EN
METHOD:PUBLISH
X-PUBLISHED-TTL:P3D
REFRESH-INTERVAL:P3D
CALSCALE:GREGORIAN
BEGIN:VEVENT
DTSTART:20170628T210000Z
DTEND:20170629T013000Z
X-MICROSOFT-CDO-ALLDAYEVENT:FALSE
SUMMARY:2017 Real Estate Summit
DESCRIPTION:Mayors and housing experts provide insight on today's real estate market!\n\nSpeakers: \n\n	Bob Archuleta Mayor Pico Rivera\, CA\n	Fernando Vasquez Mayor Downey\, CA\n	Vivian Romero Mayor Montebello\, CA\n	Roberto Monzon President/CEO MHDC
X-ALT-DESC;FMTTYPE=text/html:Mayors and housing experts provide insight on today&#39\;s real estate market!<br />\nSpeakers:&nbsp\;\n<ul>\n	<li>Bob Archuleta Mayor Pico Rivera\, CA</li>\n	<li>Fernando Vasquez Mayor Downey\, CA</li>\n	<li>Vivian Romero Mayor Montebello\, CA</li>\n	<li>Roberto Monzon&nbsp\;President/CEO MHDC</li>\n</ul>\n
LOCATION:Quiet Cannon 901 Via San Clemente\, Montebello\, CA 90640
UID:e.1156.1732
SEQUENCE:3
DTSTAMP:20260419T143040Z
URL:https://www.montebellochamber.org/events/details/2017-real-estate-summit-1732
END:VEVENT

END:VCALENDAR
