BEGIN:VCALENDAR
VERSION:2.0
PRODID:-//ChamberMaster//Event Calendar 2.0//EN
METHOD:PUBLISH
X-PUBLISHED-TTL:P3D
REFRESH-INTERVAL:P3D
CALSCALE:GREGORIAN
BEGIN:VEVENT
DTSTART:20180625T140000Z
DTEND:20180626T010000Z
X-MICROSOFT-CDO-ALLDAYEVENT:FALSE
SUMMARY:2018 Camp Quest
DESCRIPTION:2018 Camp Quest\n\nMail in registration: Monday\, May 21st - Friday\, May 25th\n\n*Mail to: City of Montebello 1600 W. Beverly Blvd. Attn: Recreation and Community Services Department (must include full payment & registration fee)\n\nWalk in registration begins: Wednesday\, June 6th from 8:00 a.m. - 5:00 p.m.\n\nAt the Recreation and Community Service Office.
X-ALT-DESC;FMTTYPE=text/html:2018 Camp Quest<br />\nMail in registration: Monday\, May 21st&nbsp\;- Friday\, May 25th<br />\n<span style="font-size:11px\;">*Mail to: City of Montebello 1600 W. Beverly Blvd. Attn: Recreation and Community Services Department&nbsp\;(must include full payment &amp\; registration fee)<br />\n<span style="font-size:14px\;">Walk in registration begins: Wednesday\, June 6th&nbsp\;from 8:00 a.m. - 5:00 p.m.<br />\n<span style="font-size:11px\;">At the Recreation and Community Service Office.</span></span></span>
LOCATION:Location #1 (7-12 years old) Cathy Hensel Youth Center 236 George Hensel Dr. Location #2 (4-6 years old) Washington Elementary School 1400 W. Madison Ave.
UID:e.1156.2582
SEQUENCE:3
DTSTAMP:20260419T172443Z
URL:https://www.montebellochamber.org/events/details/2018-camp-quest-2582
END:VEVENT

END:VCALENDAR
