BEGIN:VCALENDAR
VERSION:2.0
PRODID:-//ChamberMaster//Event Calendar 2.0//EN
METHOD:PUBLISH
X-PUBLISHED-TTL:P3D
REFRESH-INTERVAL:P3D
CALSCALE:GREGORIAN
BEGIN:VEVENT
DTSTART:20190305T160000Z
DTEND:20190305T160000Z
X-MICROSOFT-CDO-ALLDAYEVENT:FALSE
SUMMARY:2019 Spring Camp Program Registration-Parks & Recreation Department
DESCRIPTION:The 2019 Spring Camp program will run the week of April15th-April 19th\, Monday-Friday from 7:00am-6:00pm at the Fremont Elementary Extended Childcare Bungalow.  Campers will enjoy a week of fun with a variety of indoor and outdoor activiities\, arts & crafts and and entertaining off-site field trip at an additional cost. Registration packets are now available.
X-ALT-DESC;FMTTYPE=text/html:The 2019 Spring Camp program will run the week of April15th-April 19th\, Monday-Friday from 7:00am-6:00pm at the Fremont Elementary Extended Childcare Bungalow.&nbsp\; Campers will enjoy a week of fun with a variety of indoor and outdoor activiities\, arts &amp\; crafts and and entertaining off-site field trip at an additional cost. Registration packets are now available.&nbsp\;
LOCATION:Walk in Registration (March 5th): City of Montebello Parks & Recreation Department 1600 W. Beverly Blvd.\, Montebello\, CA 90640 Spring Camp held at (April 15th-April 19th): Fremont Elementary Extended Childcare Bungalow 200 W. Madison Ave.\, Montebello\, CA 90640
UID:e.1156.3246
SEQUENCE:3
DTSTAMP:20260419T160032Z
URL:https://www.montebellochamber.org/events/details/2019-spring-camp-program-registration-parks-recreation-department-3246
END:VEVENT

END:VCALENDAR
