BEGIN:VCALENDAR
VERSION:2.0
PRODID:-//ChamberMaster//Event Calendar 2.0//EN
METHOD:PUBLISH
X-PUBLISHED-TTL:P3D
REFRESH-INTERVAL:P3D
CALSCALE:GREGORIAN
BEGIN:VEVENT
DTSTART:20180627T160000Z
DTEND:20180627T220000Z
X-MICROSOFT-CDO-ALLDAYEVENT:FALSE
SUMMARY:24th Annual Golf Tournament
DESCRIPTION:Rotary Club of Montebello Presents\n\n24th Annual Golf Tournament\n\n\n\nRegistration at 8 a.m.\n\nShotgun start at 9 a.m.\n\nAwards Buffet Luncheon at 2 p.m.\n\nGifts and Prizes\n\n\n\nHole in One Bonus Prizes Throughout the Course\n\nSponsored by Chevrolet of Montebello
X-ALT-DESC;FMTTYPE=text/html:<div style="text-align: center\;">Rotary Club of Montebello Presents<br />\n24th&nbsp\;Annual Golf Tournament<br />\n<br />\nRegistration at 8&nbsp\;a.m.<br />\nShotgun start at 9&nbsp\;a.m.<br />\nAwards Buffet Luncheon at 2 p.m.<br />\nGifts and Prizes<br />\n<br />\nHole in One Bonus Prizes Throughout the Course<br />\nSponsored by Chevrolet of Montebello</div>\n
LOCATION:Montebello Golf Course 901 Via San Clemente Montebello\, CA 90640
UID:e.1156.2589
SEQUENCE:3
DTSTAMP:20260419T185040Z
URL:https://www.montebellochamber.org/events/details/24th-annual-golf-tournament-2589
END:VEVENT

END:VCALENDAR
