BEGIN:VCALENDAR
VERSION:2.0
PRODID:-//ChamberMaster//Event Calendar 2.0//EN
METHOD:PUBLISH
X-PUBLISHED-TTL:P3D
REFRESH-INTERVAL:P3D
CALSCALE:GREGORIAN
BEGIN:VEVENT
DTSTART:20181201T190000Z
DTEND:20181201T220000Z
X-MICROSOFT-CDO-ALLDAYEVENT:FALSE
SUMMARY:25th Annual Betty Boop Christmas Party at Heavenly Choice
DESCRIPTION:Come to our 25th Annual Betty Collectors Club Holiday get together! Tasty treats and lots of great friendships to celebrate the holidays.  Check out our latest vintage treasures and one of a kind displays that will be for sale from my personal collection. Wear your favorite jewelry and Betty purse\, share your Betty story.
X-ALT-DESC;FMTTYPE=text/html:Come to our 25th Annual Betty Collectors Club Holiday get together! Tasty treats and lots of great friendships to celebrate the holidays.&nbsp\; Check out our latest vintage treasures and one of a kind displays that will be for sale from my personal collection. Wear your favorite jewelry and Betty purse\, share your Betty story.&nbsp\;
LOCATION:Heavenly Choice 534 N. Montebello Blvd. Montebello\, CA 90640
UID:e.1156.3125
SEQUENCE:3
DTSTAMP:20260419T160941Z
URL:https://www.montebellochamber.org/events/details/25th-annual-betty-boop-christmas-party-at-heavenly-choice-3125
END:VEVENT

END:VCALENDAR
