BEGIN:VCALENDAR
VERSION:2.0
PRODID:-//ChamberMaster//Event Calendar 2.0//EN
METHOD:PUBLISH
X-PUBLISHED-TTL:P3D
REFRESH-INTERVAL:P3D
CALSCALE:GREGORIAN
BEGIN:VEVENT
DTSTART:20121030T003000Z
DTEND:20121030T060000Z
X-MICROSOFT-CDO-ALLDAYEVENT:FALSE
SUMMARY:27th Annual YMCA Testimonial Dinner Show and Silent Auction
DESCRIPTION:Join us for the 27th Annual YMCA Testimonial Dinner Show and Silent Auction Honoring The Montebello Chamber of Commerce and The Commerce Industrial Council.\n\n	\n\n	This annual Gala features an elegant reception & silent auction at 5:30 pm. Followed by an elaborate dinner at 7:00 pm.\n\n	\n\n	Black Tie Optional\n\n	\n\n	Sponsord by: Quiet Cannon\, Vons\, Dr. Ralph & Carol Hansen\, M's Flowers\, Commerce Casino
X-ALT-DESC;FMTTYPE=text/html:<p>\n	Join us for the 27th Annual YMCA Testimonial Dinner Show and Silent Auction Honoring The Montebello Chamber of Commerce and The Commerce Industrial Council.<br />\n	<br />\n	This annual Gala features an elegant reception &amp\; silent auction at 5:30 pm. Followed by an elaborate dinner at 7:00 pm.<br />\n	<br />\n	Black Tie Optional<br />\n	<br />\n	<u><strong>Sponsord by</strong></u>: Quiet Cannon\,&nbsp\;Vons\, Dr. Ralph &amp\; Carol Hansen\, M&#39\;s Flowers\, Commerce Casino<br />\n	&nbsp\;</p>\n
LOCATION:Quiet Cannon 901 Via San Clemente Montebello\, CA 90640
UID:e.1156.660
SEQUENCE:3
DTSTAMP:20260419T231242Z
URL:https://www.montebellochamber.org/events/details/27th-annual-ymca-testimonial-dinner-show-and-silent-auction-10-29-2012-660
END:VEVENT

END:VCALENDAR
