BEGIN:VCALENDAR
VERSION:2.0
PRODID:-//ChamberMaster//Event Calendar 2.0//EN
METHOD:PUBLISH
X-PUBLISHED-TTL:P3D
REFRESH-INTERVAL:P3D
CALSCALE:GREGORIAN
BEGIN:VEVENT
DTSTART:20190503T140000Z
DTEND:20190504T000000Z
X-MICROSOFT-CDO-ALLDAYEVENT:FALSE
SUMMARY:37th Annual Summer Youth Employment Golf Tournament
DESCRIPTION:City of Montebello Recreation & Community Services presents the \n\n37th Annual Summer Youth Employment Program Golf Tournament\n\n\n\nYour generosity and support will make a real difference by providing summer employment opportunities for the youth of our community.  When we partner together great things can happen!  Join us in continuing the legacy of growing experienced and capable future leaders!\n\n\n\nDress Code: Shirt with Collar\, No Metal Spikes\n\n\n\nSponsorships opportunities available!\n\n\n\nEntry Deadline: Thursday April 18\, 2019
X-ALT-DESC;FMTTYPE=text/html:City of Montebello Recreation &amp\; Community Services presents the&nbsp\;<br />\n37th Annual Summer Youth Employment Program Golf Tournament<br />\n<br />\nYour generosity and support will make a real difference by providing summer employment opportunities for the youth of our community.&nbsp\; When we partner together great things can happen!&nbsp\; Join us in continuing the legacy of growing experienced and capable future leaders!<br />\n<br />\nDress Code: Shirt with Collar\, No Metal Spikes<br />\n<br />\n<strong>Sponsorships opportunities available!</strong><br />\n<br />\n<strong>Entry Deadline: Thursday April 18\, 2019</strong>
LOCATION:Montebello Country Club 901 Via San Clemente Montebello\, CA 90640
UID:e.1156.3159
SEQUENCE:3
DTSTAMP:20260422T062800Z
URL:https://www.montebellochamber.org/events/details/37th-annual-summer-youth-employment-golf-tournament-3159
END:VEVENT

END:VCALENDAR
