BEGIN:VCALENDAR
VERSION:2.0
PRODID:-//ChamberMaster//Event Calendar 2.0//EN
METHOD:PUBLISH
X-PUBLISHED-TTL:P3D
REFRESH-INTERVAL:P3D
CALSCALE:GREGORIAN
BEGIN:VEVENT
DTSTART:20190511T160000Z
DTEND:20190511T210000Z
X-MICROSOFT-CDO-ALLDAYEVENT:FALSE
SUMMARY:4th Annual Blessing of the Bikes
DESCRIPTION:Chariots of Light Motorcycle Ministry Montebello\, CA  hosts 4th Annual Blessing of the Bikes!! Food\, Vendors\, Music\, Free Toy Giveaway\, Raffles and The Blessing!  ALL BIKES WELCOME!
X-ALT-DESC;FMTTYPE=text/html:Chariots of Light Motorcycle Ministry Montebello\, CA&nbsp\; hosts 4th Annual Blessing of the Bikes!! Food\, Vendors\, Music\, Free Toy Giveaway\, Raffles and The Blessing!&nbsp\; ALL BIKES WELCOME!&nbsp\;
LOCATION:Montebello City Park 115 S. Taylor Ave. Montebello\, CA 90640
UID:e.1156.3233
SEQUENCE:3
DTSTAMP:20260420T112707Z
URL:https://www.montebellochamber.org/events/details/4th-annual-blessing-of-the-bikes-3233
END:VEVENT

END:VCALENDAR
