BEGIN:VCALENDAR
VERSION:2.0
PRODID:-//ChamberMaster//Event Calendar 2.0//EN
METHOD:PUBLISH
X-PUBLISHED-TTL:P3D
REFRESH-INTERVAL:P3D
CALSCALE:GREGORIAN
BEGIN:VEVENT
DTSTART:20180320T003000Z
DTEND:20180320T013000Z
X-MICROSOFT-CDO-ALLDAYEVENT:FALSE
SUMMARY:50+ Fitness - Zumba!
DESCRIPTION:Zumba Exercise Class\n\nMove to the beat at your own speed with Zumba classes. These invigorating\, community-oriented dance-fitness classes provide modified\, low-impact moves and easy-to-follow pacing for older adults who love a healthy\, active lifestyle.
X-ALT-DESC;FMTTYPE=text/html:<span style="color: rgb(75\, 79\, 86)\; font-family: Helvetica\, Arial\, sans-serif\; font-size: 14px\;">Zumba Exercise Class</span><br style="color: rgb(75\, 79\, 86)\; font-family: Helvetica\, Arial\, sans-serif\; font-size: 14px\;" />\n<span style="color: rgb(75\, 79\, 86)\; font-family: Helvetica\, Arial\, sans-serif\; font-size: 14px\;">Move to the beat at your own speed with Zumba classes. These invigorating\, community-oriented dance-fitness classes provide modified\, low-impact moves and easy-to-follow pacing for older adults who love a healthy\, active lifestyle.&nbsp\;</span>
LOCATION:Tower Basement Rooms\, Beverly Hospital\, 309 W Beverly Blvd\, Montebello\, CA 90640\, USA
UID:e.1156.2505
SEQUENCE:3
DTSTAMP:20260419T130629Z
URL:https://www.montebellochamber.org/events/details/50-fitness-zumba-2505
END:VEVENT

END:VCALENDAR
