BEGIN:VCALENDAR
VERSION:2.0
PRODID:-//ChamberMaster//Event Calendar 2.0//EN
METHOD:PUBLISH
X-PUBLISHED-TTL:P3D
REFRESH-INTERVAL:P3D
CALSCALE:GREGORIAN
BEGIN:VEVENT
DTSTART:20180430T000000Z
DTEND:20180430T040000Z
X-MICROSOFT-CDO-ALLDAYEVENT:FALSE
SUMMARY:50th Anniversary of the Armenian Relief Society
DESCRIPTION:This year marks the Golden Anniversary of the Armenian Relief Society\, Nairy Chapter\, a nonprofit organization serving the Armenian community in Montebello. We will be celebrating 50 years of service to the Armenian community at Bagramian Hall. \n\n\n\nThrough fundraising events\, your generosity\, and the dedication of our members\, we have accomplished the following:\n\n	Maintaining and operating our Saturday School for 37 years\n	Maintaining and operating our High Quality preschool for 20 years\n	Awarding scholarships to deserving\, local-area high school students\n	Giving financial assistance to the Armenian Mesrobian School\n	Underwriting costs for deserving children to attend summer camp\n	Partnering with\, and supporting\, community events and projects\n	Aiding Armenia and Artsakh through our Central and Western regional programs\n	Helping Armenian communities in war-torn countries\n\nWe would be so grateful if you would help us continue our efforts by attending this joyous celebration!
X-ALT-DESC;FMTTYPE=text/html:This year marks the Golden Anniversary of the Armenian Relief Society\, Nairy Chapter\, a nonprofit organization serving the Armenian community in Montebello. We will be celebrating 50 years of service to the Armenian community at Bagramian Hall.&nbsp\;<br />\n<br />\nThrough fundraising events\, your generosity\, and the dedication of our members\, we have accomplished the following:\n<ul>\n	<li>Maintaining and operating our Saturday School for 37 years</li>\n	<li>Maintaining&nbsp\;and operating our High Quality preschool for 20 years</li>\n	<li>Awarding scholarships to deserving\, local-area high school students</li>\n	<li>Giving financial assistance to the Armenian Mesrobian&nbsp\;School</li>\n	<li>Underwriting costs for deserving children to attend summer camp</li>\n	<li>Partnering with\, and supporting\, community events and projects</li>\n	<li>Aiding Armenia and Artsakh through our Central and Western regional programs</li>\n	<li>Helping Armenian communities in war-torn countries</li>\n</ul>\nWe would be so grateful if you would help us continue our efforts by attending this joyous celebration!
LOCATION:Bagramian Hall Holy Cross Armenian Cathedral 900 W. Lincoln Ave. Montebello\, CA 90640
UID:e.1156.2477
SEQUENCE:3
DTSTAMP:20260419T143837Z
URL:https://www.montebellochamber.org/events/details/50th-anniversary-of-the-armenian-relief-society-2477
END:VEVENT

END:VCALENDAR
