BEGIN:VCALENDAR
VERSION:2.0
PRODID:-//ChamberMaster//Event Calendar 2.0//EN
METHOD:PUBLISH
X-PUBLISHED-TTL:P3D
REFRESH-INTERVAL:P3D
CALSCALE:GREGORIAN
BEGIN:VEVENT
DTSTART;VALUE=DATE:20191012
DTEND;VALUE=DATE:20191013
TRANSP:TRANSPARENT
X-MICROSOFT-CDO-ALLDAYEVENT:TRUE
SUMMARY:99th Anniversary City Parade
DESCRIPTION:Come celebrate the 99th Anniversary of the City of Montebello with a parade and festival!
X-ALT-DESC;FMTTYPE=text/html:Come celebrate the 99th Anniversary of the City of Montebello with a parade and festival!
LOCATION:City Park
UID:e.1156.3446
SEQUENCE:3
DTSTAMP:20260422T143041Z
URL:https://www.montebellochamber.org/events/details/99th-anniversary-city-parade-3446
END:VEVENT

END:VCALENDAR
