BEGIN:VCALENDAR
VERSION:2.0
PRODID:-//ChamberMaster//Event Calendar 2.0//EN
METHOD:PUBLISH
X-PUBLISHED-TTL:P3D
REFRESH-INTERVAL:P3D
CALSCALE:GREGORIAN
BEGIN:VEVENT
DTSTART:20191206T003000Z
DTEND:20191206T033000Z
X-MICROSOFT-CDO-ALLDAYEVENT:FALSE
SUMMARY:After-Hours Mixer at Goldex Fine Jewelry
DESCRIPTION:Experience luxury "Behind the Velvet Rope" at this after-hours mixer!\n\n	Indulge in food\, fun and luxurious fashion\n	Complimentary valet parking\n	Parting gifts for all guests\n	First look at holiday offers and trends\n\nChamber Members\, join us for an after-hours mixer at Goldex Fine Jewelry featuring fabulous food\, fun\, free parting gifts for everyone\, very special offers\, and of course\, some bubbly!  Just before the holiday season begins\, this mixer is a great opportunity to mingle\, preview new fashion trends\, and walk away with some great goodies!
X-ALT-DESC;FMTTYPE=text/html:Experience luxury &quot\;Behind the Velvet Rope&quot\; at this after-hours mixer!\n<ul>\n	<li>Indulge in food\, fun and luxurious fashion</li>\n	<li>Complimentary valet parking</li>\n	<li>Parting gifts for all guests</li>\n	<li>First look at holiday offers and trends</li>\n</ul>\nChamber Members\, join us for an after-hours mixer at Goldex Fine Jewelry featuring fabulous food\, fun\, free parting gifts for everyone\, very special offers\, and of course\, some bubbly!&nbsp\; Just before the holiday season begins\, this mixer is a great opportunity to mingle\, preview new fashion trends\, and walk away with some great goodies!
LOCATION:Goldex Fine Jewelry 2445 W. Whittier Blvd.\, Suite 201 Montebello\, CA 90640
UID:e.1156.3475
SEQUENCE:3
DTSTAMP:20260419T143640Z
URL:https://www.montebellochamber.org/events/details/after-hours-mixer-at-goldex-fine-jewelry-3475
END:VEVENT

END:VCALENDAR
