BEGIN:VCALENDAR
VERSION:2.0
PRODID:-//ChamberMaster//Event Calendar 2.0//EN
METHOD:PUBLISH
X-PUBLISHED-TTL:P3D
REFRESH-INTERVAL:P3D
CALSCALE:GREGORIAN
BEGIN:VEVENT
DTSTART;VALUE=DATE:20190125
DTEND;VALUE=DATE:20190126
TRANSP:TRANSPARENT
X-MICROSOFT-CDO-ALLDAYEVENT:TRUE
SUMMARY:Always Special Pre-Valentine's Day Fragrance Sale
DESCRIPTION:Pre-Valentine's Day Fragrance Sale 15% off on selected brands
X-ALT-DESC;FMTTYPE=text/html:Pre-Valentine&#39\;s Day Fragrance Sale 15% off on selected brands&nbsp\;
LOCATION:Always Special Perfumes & Gifts 1611 W. Whittier Blvd. Montebello\, CA 90640 (323) 530-0499
UID:e.1156.3184
SEQUENCE:3
DTSTAMP:20260419T160619Z
URL:https://www.montebellochamber.org/events/details/always-special-pre-valentine-s-day-fragrance-sale-3184
END:VEVENT

END:VCALENDAR
