BEGIN:VCALENDAR
VERSION:2.0
PRODID:-//ChamberMaster//Event Calendar 2.0//EN
METHOD:PUBLISH
X-PUBLISHED-TTL:P3D
REFRESH-INTERVAL:P3D
CALSCALE:GREGORIAN
BEGIN:VEVENT
DTSTART:20190918T190000Z
DTEND:20190918T203000Z
X-MICROSOFT-CDO-ALLDAYEVENT:FALSE
SUMMARY:AME Medical Group\, Inc. -UrgentCare Ribbon Cutting
DESCRIPTION:Ribbon Cutting at AME Medical Group\, Inc.-UrgentCare\n\nPlease join us to help celebrate our new member and network with other chamber members while building relationships!
X-ALT-DESC;FMTTYPE=text/html:Ribbon Cutting at AME Medical Group\, Inc.-UrgentCare<br />\nPlease join us to help celebrate our new member and network with other chamber members while building relationships!&nbsp\;
LOCATION:AME Medical Group\, Inc.-UrgentCare 401 W. Beverly Blvd. Montebello\, CA 90640
UID:e.1156.3414
SEQUENCE:3
DTSTAMP:20260419T173832Z
URL:https://www.montebellochamber.org/events/details/ame-medical-group-inc-urgentcare-ribbon-cutting-3414
END:VEVENT

END:VCALENDAR
