BEGIN:VCALENDAR
VERSION:2.0
PRODID:-//ChamberMaster//Event Calendar 2.0//EN
METHOD:PUBLISH
X-PUBLISHED-TTL:P3D
REFRESH-INTERVAL:P3D
CALSCALE:GREGORIAN
BEGIN:VEVENT
DTSTART:20191221T200000Z
DTEND:20191222T000000Z
X-MICROSOFT-CDO-ALLDAYEVENT:FALSE
SUMMARY:American Legion Post 272-Annual Children's Christmas Party
DESCRIPTION:American Legion Post 272 is hosting the Annual Children's Christmas Party!  Join us for a day of fun and games.  Food for all\, toy giveaway for the kids\, face painting and pictures with Santa.
X-ALT-DESC;FMTTYPE=text/html:American Legion Post 272 is hosting the Annual Children&#39\;s Christmas Party!&nbsp\; Join us for a day of fun and games.&nbsp\; Food for all\, toy giveaway for the kids\, face painting and pictures with Santa.&nbsp\;
LOCATION:American Legion Post 272-Post Hall 616 W. Cleveland Ave Montebello\, CA 90640
UID:e.1156.3530
SEQUENCE:3
DTSTAMP:20260419T160618Z
URL:https://www.montebellochamber.org/events/details/american-legion-post-272-annual-children-s-christmas-party-3530
END:VEVENT

END:VCALENDAR
