BEGIN:VCALENDAR
VERSION:2.0
PRODID:-//ChamberMaster//Event Calendar 2.0//EN
METHOD:PUBLISH
X-PUBLISHED-TTL:P3D
REFRESH-INTERVAL:P3D
CALSCALE:GREGORIAN
BEGIN:VEVENT
DTSTART;VALUE=DATE:20180519
DTEND;VALUE=DATE:20180520
TRANSP:TRANSPARENT
X-MICROSOFT-CDO-ALLDAYEVENT:TRUE
SUMMARY:Americana Music Night
DESCRIPTION:Americana Night is back! Join us for a double dose of live music on Saturday Mat 19th. Katie Jo & The Mijos and The Cheeky Few will be performing. Katie Jo kicks it off at 8pm with some California Country and Cheeky Few wraps it up with some Americana. No cover. Families welcome.
X-ALT-DESC;FMTTYPE=text/html:<span style="color: rgb(75\, 79\, 86)\; font-family: Helvetica\, Arial\, sans-serif\; font-size: 14px\;">Americana Night is back! Join us for a double dose of live music on Saturday Mat 19th.&nbsp\;</span><a aria-describedby="js_179" aria-owns="" data-hovercard="/ajax/hovercard/page.php?id=170124340135150&amp\;extragetparams=%7B%22directed_target_id%22%3A133517817507855%7D" data-hovercard-prefer-more-content-show="1" href="https://www.facebook.com/katiejomijos/" id="js_177" style="color: rgb(54\, 88\, 153)\; cursor: pointer\; text-decoration-line: none\; font-family: Helvetica\, Arial\, sans-serif\; font-size: 14px\;">Katie Jo &amp\; The Mijos</a><span style="color: rgb(75\, 79\, 86)\; font-family: Helvetica\, Arial\, sans-serif\; font-size: 14px\;">&nbsp\;and&nbsp\;</span><a data-hovercard="/ajax/hovercard/page.php?id=892487507461456&amp\;extragetparams=%7B%22directed_target_id%22%3A133517817507855%7D" data-hovercard-prefer-more-content-show="1" href="https://www.facebook.com/thecheekyfew/" style="color: rgb(54\, 88\, 153)\; cursor: pointer\; text-decoration-line: none\; font-family: Helvetica\, Arial\, sans-serif\; font-size: 14px\;">The Cheeky Few</a><span style="color: rgb(75\, 79\, 86)\; font-family: Helvetica\, Arial\, sans-serif\; font-size: 14px\;">&nbsp\;will be performing. Katie Jo kicks it off at 8pm with some California Country and Cheeky Few wraps it up with some Americana. No cover. Families welcome.</span>
LOCATION:Angry Horse Brewing 603 W. Whittier Blvd.
UID:e.1156.2586
SEQUENCE:3
DTSTAMP:20260419T160129Z
URL:https://www.montebellochamber.org/events/details/americana-music-night-2586
END:VEVENT

END:VCALENDAR
