BEGIN:VCALENDAR
VERSION:2.0
PRODID:-//ChamberMaster//Event Calendar 2.0//EN
METHOD:PUBLISH
X-PUBLISHED-TTL:P3D
REFRESH-INTERVAL:P3D
CALSCALE:GREGORIAN
BEGIN:VEVENT
DTSTART:20190216T030000Z
DTEND:20190215T080000Z
X-MICROSOFT-CDO-ALLDAYEVENT:FALSE
SUMMARY:An Intimate Concert Dinner with Charlie Zaa
DESCRIPTION:Stevens Steak & Seafood House presents\n\nAn intimate Concert Dinner with Charlie Zaa.\n\n\n\nTickets available at www.seetickets.us
X-ALT-DESC;FMTTYPE=text/html:Stevens Steak &amp\; Seafood House presents<br />\nAn intimate Concert Dinner with Charlie Zaa.<br />\n<br />\nTickets available at www.seetickets.us<br />\n&nbsp\;
LOCATION:Stevens Steak & Seafood House 5332 Stevens Place Commerce\, CA 90040
UID:e.1156.3141
SEQUENCE:3
DTSTAMP:20260419T130434Z
URL:https://www.montebellochamber.org/events/details/an-intimate-concert-dinner-with-charlie-zaa-3141
END:VEVENT

END:VCALENDAR
