BEGIN:VCALENDAR
VERSION:2.0
PRODID:-//ChamberMaster//Event Calendar 2.0//EN
METHOD:PUBLISH
X-PUBLISHED-TTL:P3D
REFRESH-INTERVAL:P3D
CALSCALE:GREGORIAN
BEGIN:VEVENT
DTSTART:20190516T233000Z
DTEND:20190517T043000Z
X-MICROSOFT-CDO-ALLDAYEVENT:FALSE
SUMMARY:Angry Horse Brewing-Moo's Craft Barbecue
DESCRIPTION:Texas style BBQ is coming back to the taproom! Moo's Craft Barbecue will be posting up on Thursday\, May 16th for dinner. Grab a pint while you wait in line. They'll be serving from 4:30pm until they sell out.\n\n\n\nDon't forget to stay for Karaoke Night with DJ Ish starting at 7pm!
X-ALT-DESC;FMTTYPE=text/html:<span>Texas style BBQ is coming back to the taproom! <a href="https://www.facebook.com/mooscraftbarbecue/" target="_blank">Moo&#39\;s Craft Barbecue</a> will be posting up on Thursday\, May 16th for dinner. Grab a pint while you wait in line. They&#39\;ll be serving from 4:30pm until they sell out.<br />\n<br />\nDon&#39\;t forget to stay for Karaoke Night with DJ Ish starting at 7pm!</span>
LOCATION:Angry Horse Brewing 603 W. Whittier Blvd. Montebello\, CA 90640
UID:e.1156.3309
SEQUENCE:3
DTSTAMP:20260422T062056Z
URL:https://www.montebellochamber.org/events/details/angry-horse-brewing-moo-s-craft-barbecue-3309
END:VEVENT

END:VCALENDAR
