BEGIN:VCALENDAR
VERSION:2.0
PRODID:-//ChamberMaster//Event Calendar 2.0//EN
METHOD:PUBLISH
X-PUBLISHED-TTL:P3D
REFRESH-INTERVAL:P3D
CALSCALE:GREGORIAN
BEGIN:VEVENT
DTSTART:20190928T193000Z
DTEND:20190928T213000Z
X-MICROSOFT-CDO-ALLDAYEVENT:FALSE
SUMMARY:Angry Horse-First Time Home Buyers Class
DESCRIPTION:Angry Horse Brewing presents Patrick Gleason's KW-Keller Williams Hops & Home "First Time Home Buyers Class" 4th Saturday of the month!!\n\nSample beer and start your home buying journey!
X-ALT-DESC;FMTTYPE=text/html:Angry Horse Brewing presents Patrick Gleason&#39\;s KW-Keller Williams Hops &amp\; Home &quot\;First Time Home Buyers Class&quot\; 4th Saturday of the month!!<br />\nSample beer and start your home buying journey!
LOCATION:Angry Horse Brewing 603 W. Whittier Blvd. Montebello\, CA 90640
UID:e.1156.3403
SEQUENCE:3
DTSTAMP:20260419T190028Z
URL:https://www.montebellochamber.org/events/details/angry-horse-first-time-home-buyers-class-3403
END:VEVENT

END:VCALENDAR
